BEGIN:VCALENDAR
VERSION:2.0
METHOD:PUBLISH
BEGIN:VEVENT
DTSTART:20220815T120000
DTEND:20220815T160000
LOCATION:Łowicki Park Etnograficzny w Maurzycach   
TRANSP: OPAQUE
SEQUENCE:0
UID:
DTSTAMP:20260421T135219Z
SUMMARY:Haft kaszubski - warsztaty | Remusowa kara, czyli Pomorze w podróży
DESCRIPTION:Termin: 15.08.2022, godz. 12:00-16:00Bilety: wstęp bezpłatny, liczba miejsc ograniczonaProwadzenie: Barbara Jaedtka-WalaszkowskaMiejsce: Łowicki Park Etnograficzny w Maurzycach (oddział Muzeum......
URL:https://app.evenea.pl/event/352247-77kopia1/
PRIORITY:1
CLASS:PUBLIC
END:VEVENT
END:VCALENDAR
