BEGIN:VCALENDAR
VERSION:2.0
METHOD:PUBLISH
BEGIN:VEVENT
DTSTART:20230826T110000
DTEND:20230826T150000
LOCATION:Centrum św. Jana w Gdańsku Świętojańska 50  Gdańsk
TRANSP: OPAQUE
SEQUENCE:0
UID:
DTSTAMP:20260422T214430Z
SUMMARY:Warsztaty Visual Vernacular
DESCRIPTION:Zapraszamy na warsztaty Visual Vernacular otwarte dla wszystkich, którzy chcą zapoznać się z rodzajem sztuki, związanej mocno z Kulturą Głuchych, ale odwołującej się do uniwersalnego......
URL:https://app.evenea.pl/event/352247-96/
PRIORITY:1
CLASS:PUBLIC
END:VEVENT
END:VCALENDAR
