BEGIN:VCALENDAR
VERSION:2.0
METHOD:PUBLISH
BEGIN:VEVENT
DTSTART:20221109T123000
DTEND:20221109T163000
LOCATION:Społeczna Szkoła Podstawowa im. Astrid Lindgren w Miliczu   
TRANSP: OPAQUE
SEQUENCE:0
UID:
DTSTAMP:20260422T155756Z
SUMMARY:Konferencja edukacyjna: "Klimat szkoły. Tworzymy go razem!" [Milicz]
DESCRIPTION:Klimat Szkoły - tworzymy go razem!Zapraszamy na wydarzenie konferencyjne skierowane do społeczności szkolnych w czasie którego omówimy najważniejsze wyzwania wychowawczo- profilaktyczne......
URL:https://app.evenea.pl/event/3526495/
PRIORITY:1
CLASS:PUBLIC
END:VEVENT
END:VCALENDAR
