BEGIN:VCALENDAR
VERSION:2.0
METHOD:PUBLISH
BEGIN:VEVENT
DTSTART:20260429T173000
DTEND:20260429T200000
LOCATION:HEVRE (salka w piwnicy) Beera Meiselsa 18  Kraków
TRANSP: OPAQUE
SEQUENCE:0
UID:
DTSTAMP:20260422T091123Z
SUMMARY:Bez szybkich domknięć: jak nie zamieniać zmiany w kontrolę
DESCRIPTION:\n\n	O różnicy między domykaniem z lęku a domykaniem z mądrości. I o tym, jak organizacje mogą wytrzymać dół U*.\n\n\n\n	Organizacje mają silny odruch domykania: nazwać problem,......
URL:https://app.evenea.pl/event/35876-1/
PRIORITY:1
CLASS:PUBLIC
END:VEVENT
END:VCALENDAR
