BEGIN:VCALENDAR
VERSION:2.0
METHOD:PUBLISH
BEGIN:VEVENT
DTSTART:20230522T190000
DTEND:20230522T210000
LOCATION:Art Hotel Wrocław Kiełbaśnicza 20  Wrocław
TRANSP: OPAQUE
SEQUENCE:0
UID:
DTSTAMP:20260419T234854Z
SUMMARY:Festiwal "Brzmienie Fest" - koncert 22.05.2023 M.CORNELIUS-KULIG/ SCREAM DUO
DESCRIPTION:Koncert 22.05.2023 M.CORNELIUS-KULIG/ SCREAM DUOPrzed nami ostatni, piąty koncert Międzynarodowego Festiwalu Muzycznego "Brzmienie Fest", podczas którego usłyszymy kolejny muzyczny duet-......
URL:https://app.evenea.pl/event/368443-833/
PRIORITY:1
CLASS:PUBLIC
END:VEVENT
END:VCALENDAR
