BEGIN:VCALENDAR
VERSION:2.0
METHOD:PUBLISH
BEGIN:VEVENT
DTSTART:20220612T120000
DTEND:20220612T120000
LOCATION:Zakoniczyn Wieżycka 40  Gdańsk
TRANSP: OPAQUE
SEQUENCE:0
UID:
DTSTAMP:20260421T114347Z
SUMMARY:Zwiedzaj Gdańsk: Zakoniczyn-Łostowice!
DESCRIPTION:Zwiedzamy południowy fragment Gdańska, Zakoniczyn - dworek, posłuchacie historii o Skorpionie, Łostowice - budynek przedwojennej szkoły, gdzie stały zabudowania dworskie oraz Wzgórze Luziy,......
URL:https://app.evenea.pl/event/392085-1/
PRIORITY:1
CLASS:PUBLIC
END:VEVENT
END:VCALENDAR
