BEGIN:VCALENDAR
VERSION:2.0
METHOD:PUBLISH
BEGIN:VEVENT
DTSTART:20220710T180000
DTEND:20220710T180000
LOCATION:Krewetka Karmelicka 1  Gdańsk
TRANSP: OPAQUE
SEQUENCE:0
UID:
DTSTAMP:20260421T142247Z
SUMMARY:Zwiedzaj Gdańsk: Stare Miasto!
DESCRIPTION:Zwiedzamy Stare Miasto… Stare, nie Główne. To na terenie Starego Miasta stoi kościół św. Katarzyny, Wielki Młyn, Archiwum Państwowe, budynek NOTu, pomnik Jana Heweliusza i wiele......
URL:https://app.evenea.pl/event/392085-4/
PRIORITY:1
CLASS:PUBLIC
END:VEVENT
END:VCALENDAR
