BEGIN:VCALENDAR
VERSION:2.0
METHOD:PUBLISH
BEGIN:VEVENT
DTSTART:20251204T180000
DTEND:20251204T180000
LOCATION:Hotel Almond ul. Toruńska 12  Gdańsk
TRANSP: OPAQUE
SEQUENCE:0
UID:
DTSTAMP:20260421T204153Z
SUMMARY:Forever Winter Growth Gdańsk 4.12.2025r.
DESCRIPTION:4 grudnia Gdańsk, Hotel Almond, ul. Toruńska 12, godz: 18:00Prelegenci:Dyrektor Jacek KandeferKosmetolog Katarzyna JaniczekLiderzy ForeverGoście specjalniDołącz bezpłatnie. Zarejestruj się!...
URL:https://app.evenea.pl/event/4122025/
PRIORITY:1
CLASS:PUBLIC
END:VEVENT
END:VCALENDAR
