BEGIN:VCALENDAR
VERSION:2.0
METHOD:PUBLISH
BEGIN:VEVENT
DTSTART:20260924T090000
DTEND:20260924T170000
LOCATION:Biuro ONE House sp. z o.o. Bobrowiecka 8  Warszawa
TRANSP: OPAQUE
SEQUENCE:0
UID:
DTSTAMP:20260422T143316Z
SUMMARY:MARCUS Digital Ad
DESCRIPTION:MARCUS Digital AdZapoznaj się z narzędziami i technikami marketingu internetowego, które w efektywny sposób są wykorzystane przez specjalistów w praktyce.OPIS SZKOLENIACelem szkolenia jest......
URL:https://app.evenea.pl/event/434473-156kopia1/
PRIORITY:1
CLASS:PUBLIC
END:VEVENT
END:VCALENDAR
