BEGIN:VCALENDAR
VERSION:2.0
METHOD:PUBLISH
BEGIN:VEVENT
DTSTART:20191024T193000
DTEND:20191024T193000
LOCATION:Studio Polskiego Radia im. Władysława Szpilmana aleja Niepodległości 81  02-626 Warszawa
TRANSP: OPAQUE
SEQUENCE:0
UID:
DTSTAMP:20260421T050309Z
SUMMARY:Festiwal Muzyka Wiary - Muzyka Pokoju / Koncert: "4000 lat" JERZY ROGIEWICZ
DESCRIPTION:Koncert w ramach 3 edycji Festiwalu Muzyka Wiary - Muzyka Pokoju, organizowanego przez Centrum Myśli Jana Pawła II, instytucji kultury m.st. Warszawy.Wśród tradycyjnych chrześcijańskich......
URL:https://app.evenea.pl/event/44073-20/
PRIORITY:1
CLASS:PUBLIC
END:VEVENT
END:VCALENDAR
