BEGIN:VCALENDAR
VERSION:2.0
METHOD:PUBLISH
BEGIN:VEVENT
DTSTART:20190506T080000
DTEND:20190731T000000
LOCATION:   
TRANSP: OPAQUE
SEQUENCE:0
UID:
DTSTAMP:20260424T031927Z
SUMMARY:Sztafeta 440 km po zmianę - idziemy po pierwszą w pełni dostępną plażę w Polsce
DESCRIPTION:Nazywamy się Fundacja Machina Zmian. Od 8 lat realizujemy innowacyjny i wspólnotowy, społeczny projekt "440 km po zmianę". Idąc co roku 440 km brzegiem Bałtyku, wspieramy kobiety z......
URL:https://app.evenea.pl/event/440kmpozmiane/
PRIORITY:1
CLASS:PUBLIC
END:VEVENT
END:VCALENDAR
