BEGIN:VCALENDAR
VERSION:2.0
METHOD:PUBLISH
BEGIN:VEVENT
DTSTART:20200907T100000
DTEND:20200909T163000
LOCATION:Wydarzenie ma charakter online Nie dotyczy  Gdynia
TRANSP: OPAQUE
SEQUENCE:0
UID:
DTSTAMP:20260424T172208Z
SUMMARY:(nie)konferencja Kierunek-Wizerunek - VI edycja
DESCRIPTION:W 2020 roku odbędzie się kolejna edycja branżowej (nie)konferencji dla pracowników bibliotek Kierunek-Wizerunek. W tym roku, ze względu na zagrożenie epidemiczne, zapraszamy do udziału w......
URL:https://app.evenea.pl/event/452020-7/
PRIORITY:1
CLASS:PUBLIC
END:VEVENT
END:VCALENDAR
