BEGIN:VCALENDAR
VERSION:2.0
METHOD:PUBLISH
BEGIN:VEVENT
DTSTART:20221109T160000
DTEND:20221109T170000
LOCATION:Milicz   
TRANSP: OPAQUE
SEQUENCE:0
UID:
DTSTAMP:20260422T173633Z
SUMMARY:Warsztaty międzykulturowe - jak integrować i edukować uczniów i uczennice w szkolnej rzeczywistości [Milicz]
DESCRIPTION:Program warsztatów międzykulturowychWarsztaty przygotowane przez Instytut Edukacji Pozytywnej we współpracy ze specjalistami międzynarodowej organizacji Education Above Everything oraz......
URL:https://app.evenea.pl/event/455832-1483/
PRIORITY:1
CLASS:PUBLIC
END:VEVENT
END:VCALENDAR
