BEGIN:VCALENDAR
VERSION:2.0
METHOD:PUBLISH
BEGIN:VEVENT
DTSTART:20230925T083000
DTEND:20230926T230000
LOCATION:HYPE PARK Kamienna 12  Kraków
TRANSP: OPAQUE
SEQUENCE:0
UID:
DTSTAMP:20260420T210237Z
SUMMARY:Future Conf 2023
DESCRIPTION:Zapraszamy na dwudniową konferencję poświęconą sztucznej inteligencji i jej zastosowaniom w programowaniu! Będzie to wyjątkowe wydarzenie, które pozwoli Ci na poznanie najnowszych narzędzi......
URL:https://app.evenea.pl/event/494497-4/
PRIORITY:1
CLASS:PUBLIC
END:VEVENT
END:VCALENDAR
