BEGIN:VCALENDAR
VERSION:2.0
METHOD:PUBLISH
BEGIN:VEVENT
DTSTART:20221125T090000
DTEND:20221125T090000
LOCATION:Arena Gliwice Akademicka 50  Gliwice
TRANSP: OPAQUE
SEQUENCE:0
UID:
DTSTAMP:20260420T083357Z
SUMMARY:4 Śląskie Dni Lotnictwa i Dronów
DESCRIPTION:Wydarzenie odbędzie się w dn. 25 listopada 2022 r.Hasłem przewodnim konferencji będzie: Rozwój gospodarczy Województwa Śląskiego dzięki branży dronowej.Wydarzenie dofinansowano z budżetu......
URL:https://app.evenea.pl/event/4slaskiednilotnictwa/
PRIORITY:1
CLASS:PUBLIC
END:VEVENT
END:VCALENDAR
