BEGIN:VCALENDAR
VERSION:2.0
METHOD:PUBLISH
BEGIN:VEVENT
DTSTART:20211016T093000
DTEND:20211016T150000
LOCATION: Letnia 15  Radzymin
TRANSP: OPAQUE
SEQUENCE:0
UID:
DTSTAMP:20260425T155438Z
SUMMARY:NGO bez barier, czyli ustawa o dostępności
DESCRIPTION:Zapraszamy przedstawicieli i przedstawicielki organizacji pozarządowych działających na terenie powiatu wołomińskiego na bezpłatne szkolenie z zakresu ustawy o zapewnieniu dostępności......
URL:https://app.evenea.pl/event/502423-21/
PRIORITY:1
CLASS:PUBLIC
END:VEVENT
END:VCALENDAR
