BEGIN:VCALENDAR
VERSION:2.0
METHOD:PUBLISH
BEGIN:VEVENT
DTSTART:20211211T100000
DTEND:20211211T160000
LOCATION:Centrum Aktywności Społecznej Konstytucji 3-go Maja 4  Radzymin
TRANSP: OPAQUE
SEQUENCE:0
UID:
DTSTAMP:20260425T155536Z
SUMMARY:"Fundraising - co każda organizacja powinna wiedzieć"
DESCRIPTION:Serdecznie zapraszamy Przedstawicielki i Przedstawicieli organizacji pozarządowych, klubów sportowych, Kół Gospodyń Wiejskich, Seniorów, OSP i grup nieformalnych, na bezpłatne......
URL:https://app.evenea.pl/event/502423-33/
PRIORITY:1
CLASS:PUBLIC
END:VEVENT
END:VCALENDAR
