BEGIN:VCALENDAR
VERSION:2.0
METHOD:PUBLISH
BEGIN:VEVENT
DTSTART:20191124T110000
DTEND:20191224T114500
LOCATION:Uniwersytet Gdański Wydział Filologiczny Aula 1.48 Wita Stwosza 55  Gdańsk
TRANSP: OPAQUE
SEQUENCE:0
UID:
DTSTAMP:20260422T021524Z
SUMMARY:Język fiński dla początkujących - prowadzenie Natalia GodlewskaHyvää huomenta!
DESCRIPTION:Chcesz dowiedzieć się, jak przywitać się po fińsku? Jak powiedzieć "proszę" i "dziękuję"? Jak przetłumaczyć "nazywam się..." na fiński?Tego wszystkiego i jeszcze więcej dowiesz się......
URL:https://app.evenea.pl/event/524274-1/
PRIORITY:1
CLASS:PUBLIC
END:VEVENT
END:VCALENDAR
