BEGIN:VCALENDAR
VERSION:2.0
METHOD:PUBLISH
BEGIN:VEVENT
DTSTART:20221127T110000
DTEND:20221127T110000
LOCATION:Wydział Filologiczny UG, Aula 1.45,  Wita Stwosz 55  Gdańsk
TRANSP: OPAQUE
SEQUENCE:0
UID:
DTSTAMP:20260420T012209Z
SUMMARY:Warsztaty językowe dla początkujących - JĘZYK SZWEDZKI
DESCRIPTION:Warsztaty językowe dla początkujących - JĘZYK SZWEDZKIprowadzenie Michał Skrzypczak Instytut Skandynawistyki i Fennistyki UGMiejsce: Aula 1.48, Wydział Filologiczny UGMisją naukową i......
URL:https://app.evenea.pl/event/524274-17kopia1kopia1kopia1/
PRIORITY:1
CLASS:PUBLIC
END:VEVENT
END:VCALENDAR
