BEGIN:VCALENDAR
VERSION:2.0
METHOD:PUBLISH
BEGIN:VEVENT
DTSTART:20230329T170000
DTEND:20230621T170000
LOCATION:   
TRANSP: OPAQUE
SEQUENCE:0
UID:
DTSTAMP:20260424T153529Z
SUMMARY:Plus Jeden do programowania
DESCRIPTION:Zapraszamy do wzięcia udziału w naszym nowym programie szkoleniowym pn. "Plus Jeden do programowania". W ramach projektu przygotowaliśmy dla Was 5 spotkań teoretycznych i warsztatowych. Udział......
URL:https://app.evenea.pl/event/531105-70/
PRIORITY:1
CLASS:PUBLIC
END:VEVENT
END:VCALENDAR
