BEGIN:VCALENDAR
VERSION:2.0
METHOD:PUBLISH
BEGIN:VEVENT
DTSTART:20260427T170000
DTEND:20260427T190000
LOCATION:Plus Jeden Poznań Za Bramką 1  Poznań
TRANSP: OPAQUE
SEQUENCE:0
UID:
DTSTAMP:20260420T052129Z
SUMMARY:Jak rozmawiać z ChatGPT, żeby realnie pomagał w biznesie
DESCRIPTION:AI w biznesie to już nie ciekawostka, to Twoja nowa przewaga konkurencyjna. Czy wiesz, że większość przedsiębiorców wykorzystuje potencjał sztucznej inteligencji jedynie w kilku procentach?......
URL:https://app.evenea.pl/event/531105-80/
PRIORITY:1
CLASS:PUBLIC
END:VEVENT
END:VCALENDAR
