BEGIN:VCALENDAR
VERSION:2.0
METHOD:PUBLISH
BEGIN:VEVENT
DTSTART:20220522T110000
DTEND:20220522T110000
LOCATION:   
TRANSP: OPAQUE
SEQUENCE:0
UID:
DTSTAMP:20260422T011925Z
SUMMARY:Tęczowy Spływ Kajakowy
DESCRIPTION:Gdańsk ma długą historię komunikacji wodnej, a w tym roku niesiemy przekaz tęczowym spływem kajakowym już po raz drugi! Motława jeszcze nigdy nie była tak kolorowa! A ponieważ sport to......
URL:https://app.evenea.pl/event/566711-15/
PRIORITY:1
CLASS:PUBLIC
END:VEVENT
END:VCALENDAR
