BEGIN:VCALENDAR
VERSION:2.0
METHOD:PUBLISH
BEGIN:VEVENT
DTSTART:20191121T100000
DTEND:20191121T100000
LOCATION:Elbląski Park Technologiczny, sala 220/221 Stanisława Sulimy 1  Elbląg
TRANSP: OPAQUE
SEQUENCE:0
UID:
DTSTAMP:20260423T092040Z
SUMMARY:ZUS i US DLA BIZNESU
DESCRIPTION:ZUS i US DLA BIZNESU 21 listopad 2019, godz. 10:00 - 13:00miejsce: sala 220/221 Elbląski Park Technologiczny Usługi ZUS dla biznesu - Karolina Luśnia-Kwaśnaulgi w opłacaniu składek na......
URL:https://app.evenea.pl/event/619806-2/
PRIORITY:1
CLASS:PUBLIC
END:VEVENT
END:VCALENDAR
