BEGIN:VCALENDAR
VERSION:2.0
METHOD:PUBLISH
BEGIN:VEVENT
DTSTART:20250920T100000
DTEND:20251019T150000
LOCATION:zoom.com   
TRANSP: OPAQUE
SEQUENCE:0
UID:
DTSTAMP:20260421T183608Z
SUMMARY:Akademia Menadżera - Zostań liderką przyszłości
DESCRIPTION:Podczas Akademii poznacie różne techniki związane z:zarządzaniem,budowaniem zespołu,motywowaniem,kształtowaniem własnego autorytetu.W odróżnieniu od innych szkoleń pokazujemy różne......
URL:https://app.evenea.pl/event/629098-30/
PRIORITY:1
CLASS:PUBLIC
END:VEVENT
END:VCALENDAR
