BEGIN:VCALENDAR
VERSION:2.0
METHOD:PUBLISH
BEGIN:VEVENT
DTSTART:20250923T110000
DTEND:20250923T190000
LOCATION:Villa Intrata część Kompleksu Pałacowego Jana III w Wilanowie Stanisława Kostki Potockiego 23  02-958 Warszawa
TRANSP: OPAQUE
SEQUENCE:0
UID:
DTSTAMP:20260421T183539Z
SUMMARY:"SukcesJa bez chaosu: Jak przekazać biznes i zachować jego wartość"
DESCRIPTION:Szanowni Państwo,Z ogromną przyjemnością zapraszamy Państwa do udziału w Konferencji "SukcesJa bez chaosu: Jak przekazać biznes i zachować jego wartość", która odbędzie się 23......
URL:https://app.evenea.pl/event/629098-32/
PRIORITY:1
CLASS:PUBLIC
END:VEVENT
END:VCALENDAR
