BEGIN:VCALENDAR
VERSION:2.0
METHOD:PUBLISH
BEGIN:VEVENT
DTSTART:20220927T100000
DTEND:20220927T200000
LOCATION:Winkolekcja Olkuska 7  Warszawa
TRANSP: OPAQUE
SEQUENCE:0
UID:
DTSTAMP:20260422T213355Z
SUMMARY:JESIENNY FESTIWAL WINA
DESCRIPTION:JESIENNY FESTIWAL WINAData: 27.09.2022Czas: 10:00-20:00Na Festiwalu zostaną zaprezentowane znane i cenione marki, m.in: Pesquera, Brundelmayer, Dourthe, Symington, Acustic, Rizzardi, Riedel, 8......
URL:https://app.evenea.pl/event/664574-14/
PRIORITY:1
CLASS:PUBLIC
END:VEVENT
END:VCALENDAR
