BEGIN:VCALENDAR
VERSION:2.0
METHOD:PUBLISH
BEGIN:VEVENT
DTSTART:20171105T190000
DTEND:20171105T230000
LOCATION:Klub Zaścianek ul. Rostafińskiego 4 30-072 Kraków
TRANSP: OPAQUE
SEQUENCE:0
UID:
DTSTAMP:20260425T175947Z
SUMMARY:The Rumjacks // Natty Dead // 05.11 // Zaścianek
DESCRIPTION:The Rumjacks\n(Sydney, Australia)\nPochodzą z Sydney. Grają celtyckiego punka. Fanów mają wszędzie. The Rumjacks, bo o nich mowa, odwiedzą Kraków na koncercie "klubowym" na początku......
URL:https://app.evenea.pl/event/66967-763-318051331966883/
PRIORITY:1
CLASS:PUBLIC
END:VEVENT
END:VCALENDAR
