BEGIN:VCALENDAR
VERSION:2.0
METHOD:PUBLISH
BEGIN:VEVENT
DTSTART:20251009T090000
DTEND:20251009T150000
LOCATION:Centrum Nauki Experyment al. Zwycięstwa 96/98  Gdynia
TRANSP: OPAQUE
SEQUENCE:0
UID:
DTSTAMP:20260423T152143Z
SUMMARY:Dobrostan w centrum uwagi. Konferencja dla nauczycielek, nauczycieli i kadry zarządzającej
DESCRIPTION:Czy dobrostan to osiągnięcie "idealnego stanu", czy może coś znacznie bardziej dynamicznego? Podczas naszej konferencji Dobrostan w centrum uwagi 9 października 2025 roku spojrzymy na niego......
URL:https://app.evenea.pl/event/674809-51/
PRIORITY:1
CLASS:PUBLIC
END:VEVENT
END:VCALENDAR
