BEGIN:VCALENDAR
VERSION:2.0
METHOD:PUBLISH
BEGIN:VEVENT
DTSTART:20200528T090000
DTEND:20200528T113000
LOCATION:   
TRANSP: OPAQUE
SEQUENCE:0
UID:
DTSTAMP:20260420T035435Z
SUMMARY:Pierwsza pomoc przedmedyczna w dobie koronawirusa (szkolenie online)
DESCRIPTION:Czy wiesz, że masz obowiązek udzielać pierwszej pomocy?Zgodnie z art.162 Kodeksu Karnego, § 1 "Kto człowiekowi znajdującemu się w położeniu grożącym bezpośrednim niebezpieczeństwem......
URL:https://app.evenea.pl/event/679369-3/
PRIORITY:1
CLASS:PUBLIC
END:VEVENT
END:VCALENDAR
