BEGIN:VCALENDAR
VERSION:2.0
METHOD:PUBLISH
BEGIN:VEVENT
DTSTART:20220905T190000
DTEND:20220929T210000
LOCATION:Muzeum Dom Jana Matejki - Odział Muzeum Narodowego Floriańska 41  Kraków
TRANSP: OPAQUE
SEQUENCE:0
UID:
DTSTAMP:20260421T142222Z
SUMMARY:VI Krakowski Salon Muzyczny
DESCRIPTION:Stowarzyszenie Polskich Muzyków Kameralistów już po raz 6. zaprasza do Domu Jana Matejki - Oddziału Muzeum Narodowego w Krakowie na unikatowy festiwal. Znakomici wykonawcy, arcydzieła......
URL:https://app.evenea.pl/event/6ksm/
PRIORITY:1
CLASS:PUBLIC
END:VEVENT
END:VCALENDAR
