BEGIN:VCALENDAR
VERSION:2.0
METHOD:PUBLISH
BEGIN:VEVENT
DTSTART:20231014T100000
DTEND:20231014T160000
LOCATION:Miasteczko Orange al. Jerozolimskie 160  Warszawa
TRANSP: OPAQUE
SEQUENCE:0
UID:
DTSTAMP:20260420T162229Z
SUMMARY:Konferencja z okazji 6. Międzynarodowego Dnia Plecaka
DESCRIPTION:Konferencja z okazji 6. Międzynarodowego Dnia PlecakaKiedy: 14 październikaGdzie: Warszawa, ul. al. Jerozolimskie 160, Miasteczko OrangeO której: 10:00 - 16:00Zaplanowaliśmy 3 panele dyskusyjne......
URL:https://app.evenea.pl/event/6mdp/
PRIORITY:1
CLASS:PUBLIC
END:VEVENT
END:VCALENDAR
