BEGIN:VCALENDAR
VERSION:2.0
METHOD:PUBLISH
BEGIN:VEVENT
DTSTART:20251116T110000
DTEND:20251116T110000
LOCATION:Aula 1.48, Wydział Filologiczny UG Wita Stwosza 55  Gdańsk
TRANSP: OPAQUE
SEQUENCE:0
UID:
DTSTAMP:20260421T040543Z
SUMMARY:Warsztaty językowe dla początkujących: JĘZYK SZWEDZKI
DESCRIPTION:Warsztaty językowe dla początkujących: JĘZYK SZWEDZKI z Anetą Swatek i Ulą Awdankiewicz Prowadzący: Aneta Swatek (Językonauta) ; Ula Awdankiewicz (ulillu) Serdecznie zapraszamy na warsztaty......
URL:https://app.evenea.pl/event/700738-5/
PRIORITY:1
CLASS:PUBLIC
END:VEVENT
END:VCALENDAR
