BEGIN:VCALENDAR
VERSION:2.0
METHOD:PUBLISH
BEGIN:VEVENT
DTSTART:20251115T110000
DTEND:20251115T110000
LOCATION:Aula 1.48, Wydział Filologiczny UG Wita Stwosza 55  Gdańsk
TRANSP: OPAQUE
SEQUENCE:0
UID:
DTSTAMP:20260419T181117Z
SUMMARY:Warsztaty: "Budowanie dobrostanu psychicznego z wykorzystaniem klocków LEGO"
DESCRIPTION:Warsztaty: "Budowanie dobrostanu psychicznego z wykorzystaniem klocków LEGO" Prowadzący: dr Agata Rudnik Dobrostan można zbudować, krok po kroku, klocek po klocku. Podczas warsztatu połączysz......
URL:https://app.evenea.pl/event/700738-6/
PRIORITY:1
CLASS:PUBLIC
END:VEVENT
END:VCALENDAR
