BEGIN:VCALENDAR
VERSION:2.0
METHOD:PUBLISH
BEGIN:VEVENT
DTSTART:20231016T180000
DTEND:20231016T210000
LOCATION:Sii Polska Niepodległości 69  Warszawa
TRANSP: OPAQUE
SEQUENCE:0
UID:
DTSTAMP:20260424T052725Z
SUMMARY:Zrozumieć tokenomię projektu
DESCRIPTION:📍 UWAGA - zmiana daty i miejsca wydarzenia! Event odbędzie się 16 października (poniedziałek) w godz 18:00-21:00 w Sii przy al. Niepodległości 69 w Warszawie📍Zastanawiasz się jak......
URL:https://app.evenea.pl/event/729904-25/
PRIORITY:1
CLASS:PUBLIC
END:VEVENT
END:VCALENDAR
