BEGIN:VCALENDAR
VERSION:2.0
METHOD:PUBLISH
BEGIN:VEVENT
DTSTART:20191214T120000
DTEND:20191214T160000
LOCATION:Harris Piano Jazz Bar Rynek Główny 28  Kraków
TRANSP: OPAQUE
SEQUENCE:0
UID:
DTSTAMP:20260424T220044Z
SUMMARY:Warsztaty produkcji muzycznej z profesjonalistami.
DESCRIPTION:Certyfikowane warsztaty produkcji muzycznej.🎶Zapraszamy na pierwszą edycję warsztatów produkcji muzycznej organizowanych przez Academy of Music Business - Centrum szkoleń zarządzania......
URL:https://app.evenea.pl/event/748299-3/
PRIORITY:1
CLASS:PUBLIC
END:VEVENT
END:VCALENDAR
