BEGIN:VCALENDAR
VERSION:2.0
METHOD:PUBLISH
BEGIN:VEVENT
DTSTART:20200609T190000
DTEND:20200623T200000
LOCATION:link do webinaru zostanie przekazany osobom zapisanym na wydarzenie   
TRANSP: OPAQUE
SEQUENCE:0
UID:
DTSTAMP:20260423T174534Z
SUMMARY:Numerologia Kabalistyczna
DESCRIPTION:Zapraszamy na nowy cykl 4 wykładów Kabalistyczna Numerologia (GEMATRIA) z Davidem Naorem Kabała i nauka utrzymują, że Życie i Wszechświat mają swoją strukturę. Podczas gdy nauka podchodzi......
URL:https://app.evenea.pl/event/768691-29numerologiakabalistyczna-gematria/
PRIORITY:1
CLASS:PUBLIC
END:VEVENT
END:VCALENDAR
