BEGIN:VCALENDAR
VERSION:2.0
METHOD:PUBLISH
BEGIN:VEVENT
DTSTART:20260308T110000
DTEND:20260308T110000
LOCATION:Rzeźba Kryształowa Planeta u zbiegu ul. św. Antoniego i Kazimierza Wielkiego   
TRANSP: OPAQUE
SEQUENCE:0
UID:
DTSTAMP:20260421T200421Z
SUMMARY:Kobiety na ciągniki?! Na pomniki! - wycieczka rowerowa z przymrużeniem oka
DESCRIPTION:Kobiety na ciągniki?! Na pomniki!Z okazji Dnia Kobiet zapraszam matki, córki, żony i kochanki na wyjątkową przejażdżkę rowerową z przymrużeniem oka! Świętujmy aktywnie, na dwóch......
URL:https://app.evenea.pl/event/773616-83/
PRIORITY:1
CLASS:PUBLIC
END:VEVENT
END:VCALENDAR
