BEGIN:VCALENDAR
VERSION:2.0
METHOD:PUBLISH
BEGIN:VEVENT
DTSTART:20260322T110000
DTEND:20260322T110000
LOCATION:Fontanna Alegorii Walki i Zwycięstwa, pl. Jana Pawła II   
TRANSP: OPAQUE
SEQUENCE:0
UID:
DTSTAMP:20260421T065521Z
SUMMARY:"Wybudowałem pomnik trwalszy niż ze spiżu" - wycieczka rowerowa
DESCRIPTION:"Wybudowałem pomnik trwalszy niż ze spiżu" - wycieczka rowerowaZapraszamy serdecznie na wycieczkę rowerową: tym razem szlakiem pomników poświęconych panom. Wycieczka z przymrużeniem oka......
URL:https://app.evenea.pl/event/773616-85/
PRIORITY:1
CLASS:PUBLIC
END:VEVENT
END:VCALENDAR
