BEGIN:VCALENDAR
VERSION:2.0
METHOD:PUBLISH
BEGIN:VEVENT
DTSTART:20201125T160000
DTEND:20201125T160000
LOCATION:ZOOM   
TRANSP: OPAQUE
SEQUENCE:0
UID:
DTSTAMP:20260421T132757Z
SUMMARY:WEBINAR - STUDIA NA MALCIE
DESCRIPTION:Czy marzą Ci się studia... Za darmo? Po angielsku? W brytyjskim systemie edukacji? Ale dobrze by było, aby na wyspie cieplejszej jak brytyjska? :)) Studia na Malcie spełniają wszystkie te......
URL:https://app.evenea.pl/event/785815-25/
PRIORITY:1
CLASS:PUBLIC
END:VEVENT
END:VCALENDAR
