BEGIN:VCALENDAR
VERSION:2.0
METHOD:PUBLISH
BEGIN:VEVENT
DTSTART:20201126T160000
DTEND:20201126T160000
LOCATION:Zoom   
TRANSP: OPAQUE
SEQUENCE:0
UID:
DTSTAMP:20260421T132757Z
SUMMARY:WEBIANR - STUDIA W SKANDYNAWII
DESCRIPTION:A może tak studia w ... Danii? Szwecji? Finlandii? Norwegii? Atuty? Brak opłat za czesne! Prestiżowa edukacja! Nowoczesne nauczanie! Studia po angielsku! Weź udział w webinarze Global......
URL:https://app.evenea.pl/event/785815-26/
PRIORITY:1
CLASS:PUBLIC
END:VEVENT
END:VCALENDAR
