BEGIN:VCALENDAR
VERSION:2.0
METHOD:PUBLISH
BEGIN:VEVENT
DTSTART:20260512T150000
DTEND:20260512T230000
LOCATION:Focus Hotel Premium ul. Suwak 15  Warszawa
TRANSP: OPAQUE
SEQUENCE:0
UID:
DTSTAMP:20260421T162046Z
SUMMARY:Gala Finałowa Międzynarodowych Mistrzostw Polski Sommelierów 2026
DESCRIPTION:Międzynarodowe Mistrzostwa Polski Sommelierów 2026Stowarzyszenie Sommelierów Polskich zaprasza na Galę Finałową Międzynarodowych Mistrzostw Polski Sommelierów. Finał 25. edycji mistrzostw......
URL:https://app.evenea.pl/event/794288-41/
PRIORITY:1
CLASS:PUBLIC
END:VEVENT
END:VCALENDAR
