BEGIN:VCALENDAR
VERSION:2.0
METHOD:PUBLISH
BEGIN:VEVENT
DTSTART:20250306T170000
DTEND:20250306T211500
LOCATION:D9 Space ul. Dyrekcyjna 9  Katowice
TRANSP: OPAQUE
SEQUENCE:0
UID:
DTSTAMP:20260422T215655Z
SUMMARY:Let's talk about IT #7 - Awans i podwyżka. Zbuduj eksperckość w oczach przełożonego.
DESCRIPTION:Cześć,6 marca po raz siódmy spotkamy się w Katowicach na wyjątkowej konferencji "Let's talk about IT", której tematem przewodnim będzie: "Awans i podwyżka. Zbuduj eksperckość w oczach......
URL:https://app.evenea.pl/event/7edycja/
PRIORITY:1
CLASS:PUBLIC
END:VEVENT
END:VCALENDAR
