BEGIN:VCALENDAR
VERSION:2.0
METHOD:PUBLISH
BEGIN:VEVENT
DTSTART:20201106T100000
DTEND:20201106T142000
LOCATION:   
TRANSP: OPAQUE
SEQUENCE:0
UID:
DTSTAMP:20260424T100217Z
SUMMARY:V Międzynarodowe Forum Inwestycyjne w Skarżysku-Kamiennej
DESCRIPTION:Celem Międzynarodowego Forum Inwestycyjnego w Skarżysku - Kamiennej jest wykreowanie platformy współpracy pomiędzy przedsiębiorstwami z różnych państw, w tym z krajów Europy, Azji, Afryki......
URL:https://app.evenea.pl/event/827757-3/
PRIORITY:1
CLASS:PUBLIC
END:VEVENT
END:VCALENDAR
