BEGIN:VCALENDAR
VERSION:2.0
METHOD:PUBLISH
BEGIN:VEVENT
DTSTART:20211125T110000
DTEND:20211125T140000
LOCATION:Siedziba Centrum Obsługi Inwestora w Skarżysku-Kamiennej ul. Legionów 122D  Skarżysko-Kamienna
TRANSP: OPAQUE
SEQUENCE:0
UID:
DTSTAMP:20260424T010936Z
SUMMARY:VI Międzynarodowe Forum Inwestycyjne w Skarżysku-Kamiennej
DESCRIPTION:Celem Międzynarodowego Forum Inwestycyjnego w Skarżysku - Kamiennej jest wykreowanie platformy współpracy pomiędzy przedsiębiorstwami z różnych państw. Tegoroczny temat MFI obejmuje przede......
URL:https://app.evenea.pl/event/827757-4/
PRIORITY:1
CLASS:PUBLIC
END:VEVENT
END:VCALENDAR
