BEGIN:VCALENDAR
VERSION:2.0
METHOD:PUBLISH
BEGIN:VEVENT
DTSTART:20200220T090000
DTEND:20200221T153000
LOCATION:Hotel Traugutta 2 Traugutta 2  Białystok
TRANSP: OPAQUE
SEQUENCE:0
UID:
DTSTAMP:20260419T181109Z
SUMMARY:Wyłącznie lepiej #2 - marka agenta i pozyskanie klienta
DESCRIPTION:Wyłącznie lepiej! #2 Praktycznie przez Praktyków: - Budowanie marki agenta nieruchomości - Pozyskiwanie i profesjonalna obsługa Klientów kupujących Termin: 20-21 lutego 2020 Dzień 1,......
URL:https://app.evenea.pl/event/830577-21/
PRIORITY:1
CLASS:PUBLIC
END:VEVENT
END:VCALENDAR
