BEGIN:VCALENDAR
VERSION:2.0
METHOD:PUBLISH
BEGIN:VEVENT
DTSTART:20260429T180000
DTEND:20260429T180000
LOCATION:OP ENHEIM Plac Solny 4  Wrocław
TRANSP: OPAQUE
SEQUENCE:0
UID:
DTSTAMP:20260422T031741Z
SUMMARY:OP_TALKS | Materialność miasta. O napięciach, rozpadzie i ekologii współczesnych metropolii. Spotkanie i oprowadzanie z Krzysiem Bykowskim
DESCRIPTION:OP_TALKS | Materialność miasta. O napięciach, rozpadzie i ekologii współczesnych metropolii. Spotkanie i oprowadzanie z Krzysiem Bykowskim29 kwietnia o godz. 18:00 zapraszamy do OP ENHEIM na......
URL:https://app.evenea.pl/event/832353-127/
PRIORITY:1
CLASS:PUBLIC
END:VEVENT
END:VCALENDAR
