BEGIN:VCALENDAR
VERSION:2.0
METHOD:PUBLISH
BEGIN:VEVENT
DTSTART:20260506T180000
DTEND:20260506T180000
LOCATION:OP ENHEIM Plac Solny 4  Wrocław
TRANSP: OPAQUE
SEQUENCE:0
UID:
DTSTAMP:20260426T022712Z
SUMMARY:Opowieść o pająkach ludowych. Warsztaty i spotkanie z Aliaksandrem Danilkinem
DESCRIPTION:Opowieść o pająkach ludowych. Warsztaty i spotkanie z Aliaksandrem Danilkinem6 maja o godz. 18:00 zapraszamy na ostatnie warsztaty towarzyszące wystawie "Unruhe", podsumowującej szóstą......
URL:https://app.evenea.pl/event/832353-128/
PRIORITY:1
CLASS:PUBLIC
END:VEVENT
END:VCALENDAR
