BEGIN:VCALENDAR
VERSION:2.0
METHOD:PUBLISH
BEGIN:VEVENT
DTSTART:20231125T110000
DTEND:20231126T170000
LOCATION:OP ENHEIM Plac Solny 4  Wrocław
TRANSP: OPAQUE
SEQUENCE:0
UID:
DTSTAMP:20260420T002051Z
SUMMARY:MASTERCLASS | Imagery in Butoh - warsztaty z NATSUKO KONO
DESCRIPTION:MASTERCLASS | Imagery in Butoh - warsztaty z NATSUKO KONO Kiedy: 25-26.11.2023, godz. 11:00-17:00 Gdzie: Salon Herz, V p. OP ENHEIM, Plac Solny 4, Wrocław Czas trwania warsztatów: 12 godzin (2 x......
URL:https://app.evenea.pl/event/832353-51/
PRIORITY:1
CLASS:PUBLIC
END:VEVENT
END:VCALENDAR
