BEGIN:VCALENDAR
VERSION:2.0
METHOD:PUBLISH
BEGIN:VEVENT
DTSTART:20240606T170000
DTEND:20240606T170000
LOCATION:Hotel Blue Diamond Nowa Wieś 414, 36-001 Trzebownisko  
TRANSP: OPAQUE
SEQUENCE:0
UID:
DTSTAMP:20260420T174828Z
SUMMARY:O sztucznej inteligencji - czerwcowe spotkanie Podkarpackiego Samorządu Gospodarczego
DESCRIPTION:Już 6 czerwca 2024 r. zapraszamy na kolejne spotkanie izby - Podkarpacki Samorząd Gospodarczy. Początek o godz. 17:00.Jednym z najważniejszych celów naszej Izby jest dostarczenie Państwu......
URL:https://app.evenea.pl/event/835457-1/
PRIORITY:1
CLASS:PUBLIC
END:VEVENT
END:VCALENDAR
