BEGIN:VCALENDAR
VERSION:2.0
METHOD:PUBLISH
BEGIN:VEVENT
DTSTART:20241010T120000
DTEND:20241010T120000
LOCATION:Podkarpacki Park Naukowo-Technologiczny Aeropolis, budynek IT Jasionka 954  36-002 Jasionka
TRANSP: OPAQUE
SEQUENCE:0
UID:
DTSTAMP:20260419T135919Z
SUMMARY:DOING BUSINESS IN ROMANIA, Rzeszów - 10 października 2024 r.
DESCRIPTION:Podkarpacki Samorząd Gospodarczy, Polsko-Rumuńska Bilateralna Izba Handlowo-Przemysłowa (PRBCC), Rzeszowska Agencja Rozwoju Regionalnego mają zaszczyt zaprosić Państwa już 10 października......
URL:https://app.evenea.pl/event/835457-12/
PRIORITY:1
CLASS:PUBLIC
END:VEVENT
END:VCALENDAR
